BEGIN:VCALENDAR
VERSION:2.0
PRODID:-//Sabre//Sabre VObject 4.5.8//EN
CALSCALE:GREGORIAN
BEGIN:VEVENT
UID:sabre-vobject-f4760bce-07fe-43ce-b5c8-d2bf2606521e
DTSTAMP:20260422T201447Z
SUMMARY:Licht und Schatten
DESCRIPTION:https://keb-aichach-friedberg.de/veranstaltungen/licht-und-scha
 tten_id323967
DTSTART;TZID=Europe/Berlin:20260824T000000
LOCATION:KEB Friedberg\, Pfarrstraße 1\, 86316 Friedberg
END:VEVENT
END:VCALENDAR
