BEGIN:VCALENDAR
VERSION:2.0
PRODID:-//Sabre//Sabre VObject 4.5.8//EN
CALSCALE:GREGORIAN
BEGIN:VEVENT
UID:sabre-vobject-8974e65e-8402-41e5-8112-f06a72da9737
DTSTAMP:20260422T201447Z
SUMMARY:Licht und Schatten
DESCRIPTION:https://keb-aichach-friedberg.de/veranstaltungen/licht-und-scha
 tten_id323968
DTSTART;TZID=Europe/Berlin:20260907T000000
LOCATION:KEB Friedberg\, Pfarrstraße 1\, 86316 Friedberg
END:VEVENT
END:VCALENDAR
