BEGIN:VCALENDAR
VERSION:2.0
PRODID:-//Sabre//Sabre VObject 4.5.8//EN
CALSCALE:GREGORIAN
BEGIN:VEVENT
UID:sabre-vobject-4526f340-e6d4-4ce0-b84b-967e9228478d
DTSTAMP:20260424T115000Z
SUMMARY:Yoga für Fortgeschrittene
DESCRIPTION:https://keb-aichach-friedberg.de/veranstaltungen/yoga-fuer-fort
 geschrittene_id324019
DTSTART;TZID=Europe/Berlin:20260511T190000
DTEND;TZID=Europe/Berlin:20260511T203000
LOCATION:KEB Friedberg\, Pfarrstraße 1\, 86316 Friedberg
END:VEVENT
END:VCALENDAR
