BEGIN:VCALENDAR
VERSION:2.0
PRODID:-//Sabre//Sabre VObject 4.5.8//EN
CALSCALE:GREGORIAN
BEGIN:VEVENT
UID:sabre-vobject-b2639037-7a6a-4886-99d6-68ffca71255a
DTSTAMP:20260424T114959Z
SUMMARY:Yoga für Fortgeschrittene
DESCRIPTION:https://keb-aichach-friedberg.de/veranstaltungen/yoga-fuer-fort
 geschrittene_id324020
DTSTART;TZID=Europe/Berlin:20260518T190000
DTEND;TZID=Europe/Berlin:20260518T203000
LOCATION:KEB Friedberg\, Pfarrstraße 1\, 86316 Friedberg
END:VEVENT
END:VCALENDAR
