BEGIN:VCALENDAR
VERSION:2.0
PRODID:-//Sabre//Sabre VObject 4.5.8//EN
CALSCALE:GREGORIAN
BEGIN:VEVENT
UID:sabre-vobject-49619ca3-ece0-4e5b-b4cb-6f27b2505155
DTSTAMP:20260424T115005Z
SUMMARY:"Freude am Malen" - mit Farben gestalten
DESCRIPTION:https://keb-aichach-friedberg.de/veranstaltungen/freude-am-male
 n-mit-farben-gestalten_id324034
DTSTART;TZID=Europe/Berlin:20260512T140000
DTEND;TZID=Europe/Berlin:20260512T160000
LOCATION:Caritas Sozialstation Mering\, Lechstraße 7\, 86415 Mering
END:VEVENT
END:VCALENDAR
