BEGIN:VCALENDAR
VERSION:2.0
PRODID:-//Sabre//Sabre VObject 4.5.8//EN
CALSCALE:GREGORIAN
BEGIN:VEVENT
UID:sabre-vobject-d340c381-9d93-4c47-ab5d-14794f9c7e96
DTSTAMP:20260422T203019Z
SUMMARY:"Freude am Malen" - mit Farben gestalten
DESCRIPTION:https://keb-aichach-friedberg.de/veranstaltungen/freude-am-male
 n-mit-farben-gestalten_id324039
DTSTART;TZID=Europe/Berlin:20260721T140000
DTEND;TZID=Europe/Berlin:20260721T160000
LOCATION:Caritas Sozialstation Mering\, Lechstraße 7\, 86415 Mering
END:VEVENT
END:VCALENDAR
