BEGIN:VCALENDAR
VERSION:2.0
PRODID:-//Sabre//Sabre VObject 4.5.8//EN
CALSCALE:GREGORIAN
BEGIN:VEVENT
UID:sabre-vobject-f34482e0-d89e-4fa8-8fdb-710fa37f590d
DTSTAMP:20260424T115608Z
SUMMARY:Neurokinetik-Kurs
DESCRIPTION:https://keb-aichach-friedberg.de/veranstaltungen/neurokinetik-k
 urs_id324057
DTSTART;TZID=Europe/Berlin:20260505T180000
DTEND;TZID=Europe/Berlin:20260505T190000
LOCATION:"Welt-Raum" im Weltladen\, Augsburger Straße 3\, 86415 Mering
END:VEVENT
END:VCALENDAR
