BEGIN:VCALENDAR
VERSION:2.0
PRODID:-//Sabre//Sabre VObject 4.5.8//EN
CALSCALE:GREGORIAN
BEGIN:VEVENT
UID:sabre-vobject-0f51f6de-2146-47e1-a3f9-43ddd0633879
DTSTAMP:20260422T184810Z
SUMMARY:Einblicke in den Langwiedhof
DESCRIPTION:https://keb-aichach-friedberg.de/veranstaltungen/einblicke-in-d
 en-langwiedhof_id324071
DTSTART;TZID=Europe/Berlin:20260702T140000
LOCATION:Langwiedhof\, Langwiedhof 1\, 86415 Mering
END:VEVENT
END:VCALENDAR
