BEGIN:VCALENDAR
VERSION:2.0
PRODID:-//Sabre//Sabre VObject 4.5.8//EN
CALSCALE:GREGORIAN
BEGIN:VEVENT
UID:sabre-vobject-06e5887d-b334-4995-b4e8-8324c13e6d06
DTSTAMP:20260422T201858Z
SUMMARY:Ausflug nach Neuburg an der Donau
DESCRIPTION:https://keb-aichach-friedberg.de/veranstaltungen/ausflug-nach-n
 euburg-an-der-donau_id324074
DTSTART;TZID=Europe/Berlin:20260717T133000
LOCATION:Neuburg an der Donau\, Ottheinrichplatz A 118\, 86633 Neuburg an d
 er Donau
END:VEVENT
END:VCALENDAR
