BEGIN:VCALENDAR
VERSION:2.0
PRODID:-//Sabre//Sabre VObject 4.5.8//EN
CALSCALE:GREGORIAN
BEGIN:VEVENT
UID:sabre-vobject-8c7ca8e7-91f1-4a4c-a1ad-6ee99c746412
DTSTAMP:20260426T023154Z
SUMMARY:Besuch in Dießen/Ammersee
DESCRIPTION:https://keb-aichach-friedberg.de/veranstaltungen/besuch-in-dies
 sen-ammersee_id324076
DTSTART;TZID=Europe/Berlin:20260917T140000
LOCATION:Dießen/Ammersee\, Bahnhofstraße 15\, 86911 Dießen am Ammersee
END:VEVENT
END:VCALENDAR
